BEGIN:VCALENDAR
VERSION:2.0
PRODID:-//Tukios.com/
BEGIN:VEVENT
UID:9ea613f7-ec41-49dd-a9ed-8219da609dbb@www.millerfamilyfuneralhome.com
DTSTAMP:20260421T184101Z
DTSTART:20260425T150000Z
DTEND:20260425T160000Z
SUMMARY:Funeral Service
DESCRIPTION:
URL:https://www.millerfamilyfuneralhome.com/obituaries/myrtis-scott
LOCATION:Miller Family Funeral Home Chapel 200 E 37th St  Snyder TX 79549
GEO:32.7039971;-100.8921627
END:VEVENT
END:VCALENDAR