BEGIN:VCALENDAR
VERSION:2.0
PRODID:-//Tukios.com/
BEGIN:VEVENT
UID:7c3b326e-5f51-4aea-bc8c-b5bfc54c2eb8@www.millerfamilyfuneralhome.com
DTSTAMP:20260421T184643Z
DTSTART:20260424T220000Z
DTEND:20260425T000000Z
SUMMARY:Visitation
DESCRIPTION:
URL:https://www.millerfamilyfuneralhome.com/obituaries/myrtis-scott
LOCATION:Miller Family Funeral Home Chapel 200 E 37th St  Snyder TX 79549
GEO:32.7039971;-100.8921627
END:VEVENT
END:VCALENDAR